BEGIN:VCALENDAR
VERSION:2.0
PRODID:-//Evesham Rambling Club - ECPv6.15.20//NONSGML v1.0//EN
CALSCALE:GREGORIAN
METHOD:PUBLISH
X-WR-CALNAME:Evesham Rambling Club
X-ORIGINAL-URL:https://eveshamramblingclub.org.uk
X-WR-CALDESC:Events for Evesham Rambling Club
REFRESH-INTERVAL;VALUE=DURATION:PT1H
X-Robots-Tag:noindex
X-PUBLISHED-TTL:PT1H
BEGIN:VTIMEZONE
TZID:Europe/London
BEGIN:DAYLIGHT
TZOFFSETFROM:+0000
TZOFFSETTO:+0100
TZNAME:BST
DTSTART:20250330T010000
END:DAYLIGHT
BEGIN:STANDARD
TZOFFSETFROM:+0100
TZOFFSETTO:+0000
TZNAME:GMT
DTSTART:20251026T010000
END:STANDARD
BEGIN:DAYLIGHT
TZOFFSETFROM:+0000
TZOFFSETTO:+0100
TZNAME:BST
DTSTART:20260329T010000
END:DAYLIGHT
BEGIN:STANDARD
TZOFFSETFROM:+0100
TZOFFSETTO:+0000
TZNAME:GMT
DTSTART:20261025T010000
END:STANDARD
BEGIN:DAYLIGHT
TZOFFSETFROM:+0000
TZOFFSETTO:+0100
TZNAME:BST
DTSTART:20270328T010000
END:DAYLIGHT
BEGIN:STANDARD
TZOFFSETFROM:+0100
TZOFFSETTO:+0000
TZNAME:GMT
DTSTART:20271031T010000
END:STANDARD
END:VTIMEZONE
BEGIN:VEVENT
DTSTART;TZID=Europe/London:20260307T103000
DTEND;TZID=Europe/London:20260307T133000
DTSTAMP:20260423T101233
CREATED:20260214T003000Z
LAST-MODIFIED:20260214T150257Z
UID:51798-1772879400-1772890200@eveshamramblingclub.org.uk
SUMMARY:March Saturday Short
DESCRIPTION:Members may view additional information by clicking  here \n\n\n\n\n\n\nLeaders:  Diane\n\n\n\nArea: The Lenches\n\n\n\nStart Time: 10.30 am\n\n\n\nTerrain:   A mix of woodland and forest paths\, farmland with some lane walking. Several short inclines. Some of the woodland paths will be narrow\, muddy and slippery if wet.\n\n\n\nDistance: 5.2 miles\n\n\n\nDescription:\n\n\n\n\n“A scenic circular walk from the Vale Golf and Country Club following the Jubilee Walk towards Rous Lench and then taking the Wychavon Way up into and through Yeald Wood and Old Yew Hill Wood. Heading out of the wood we walk uphill towards Church Lench before heading back to the Golf Club across open countryside.” \n\n\n\nIf you are interested in joining this ramble please contact the club using the details below or through our contact form \n\n\n\n \n\n\n\n\nEmail: info@eveshamramblingclub.org.uk
URL:https://eveshamramblingclub.org.uk/ramble/mar-saturday-short-ramble-2026/
CATEGORIES:SATURDAY RAMBLE
ATTACH;FMTTYPE=image/jpeg:https://eveshamramblingclub.org.uk/everc/wp-content/uploads/2026/01/Lenches-b.jpg
END:VEVENT
END:VCALENDAR