BEGIN:VCALENDAR
VERSION:2.0
PRODID:-//Evesham Rambling Club - ECPv6.15.20//NONSGML v1.0//EN
CALSCALE:GREGORIAN
METHOD:PUBLISH
X-WR-CALNAME:Evesham Rambling Club
X-ORIGINAL-URL:https://eveshamramblingclub.org.uk
X-WR-CALDESC:Events for Evesham Rambling Club
REFRESH-INTERVAL;VALUE=DURATION:PT1H
X-Robots-Tag:noindex
X-PUBLISHED-TTL:PT1H
BEGIN:VTIMEZONE
TZID:Europe/London
BEGIN:DAYLIGHT
TZOFFSETFROM:+0000
TZOFFSETTO:+0100
TZNAME:BST
DTSTART:20230326T010000
END:DAYLIGHT
BEGIN:STANDARD
TZOFFSETFROM:+0100
TZOFFSETTO:+0000
TZNAME:GMT
DTSTART:20231029T010000
END:STANDARD
BEGIN:DAYLIGHT
TZOFFSETFROM:+0000
TZOFFSETTO:+0100
TZNAME:BST
DTSTART:20240331T010000
END:DAYLIGHT
BEGIN:STANDARD
TZOFFSETFROM:+0100
TZOFFSETTO:+0000
TZNAME:GMT
DTSTART:20241027T010000
END:STANDARD
BEGIN:DAYLIGHT
TZOFFSETFROM:+0000
TZOFFSETTO:+0100
TZNAME:BST
DTSTART:20250330T010000
END:DAYLIGHT
BEGIN:STANDARD
TZOFFSETFROM:+0100
TZOFFSETTO:+0000
TZNAME:GMT
DTSTART:20251026T010000
END:STANDARD
END:VTIMEZONE
BEGIN:VEVENT
DTSTART;TZID=Europe/London:20240508T100000
DTEND;TZID=Europe/London:20240508T160000
DTSTAMP:20260424T173234
CREATED:20240413T233000Z
LAST-MODIFIED:20240416T083142Z
UID:43678-1715162400-1715184000@eveshamramblingclub.org.uk
SUMMARY:May Midweek Ramble
DESCRIPTION:Members may view additional information by clicking here \n\n\n\n\n\n\nLeaders: Paul and Hazel\n\n\n\nArea: Welcombe Hills Nature Reserve and Stratford-upon-Avon\n\n\n\nStart: 10.00 am\n\n\n\nDistance: am 6 miles; pm 4 miles\n\n\n\nTerrain: Some steep hills\, but also canal and town walking.\n\n\n\nLunch: Around 12.00 – 12.30 pm\, Stratford-upon-Avon\, Drinks / food can be purchased in Stratford or take a picnic. We will meet for the afternoon walk at Wetherspoons\, Sheep Street\, in the town.\n\n\n\nDescription: \n\n\n\n\n“Starting at the top of the Welcombe Hills and Clopton Park\, a 60 hectare nature reserve\, the route passes Clopton House and Tower before a lunch stop in Stratford\, and then return uphill back to the cars.” \n\n\n\nIf you are interested in joining this ramble please contact the club using the details below or through our contact form \n\n\n\n\nTel: 01386 443234\n\n\n\nEmail: info@eveshamramblingclub.org.uk
URL:https://eveshamramblingclub.org.uk/ramble/may-midweek-ramble-2/
CATEGORIES:MIDWEEK RAMBLE
ATTACH;FMTTYPE=image/jpeg:https://eveshamramblingclub.org.uk/everc/wp-content/uploads/2024/03/Stratford-upon-Avon-b-e1710587969765.jpg
END:VEVENT
BEGIN:VEVENT
DTSTART;TZID=Europe/London:20240510T180000
DTEND;TZID=Europe/London:20240510T210000
DTSTAMP:20260424T173234
CREATED:20240413T233000Z
LAST-MODIFIED:20240416T083252Z
UID:43682-1715364000-1715374800@eveshamramblingclub.org.uk
SUMMARY:May 10  Evening Ramble
DESCRIPTION:Members may view additional information by clicking  here \n\n\n\n\n\n\nLeaders: Lesley and Trevor\n\n\n\nArea: The Other Side of Broadway\n\n\n\nStart Time: 6.00 pm\n\n\n\nTerrain:  This is a reasonably flat walk across open farmland There are a number of fairly easy stiles to negotiate.\n\n\n\nDistance:  6.2 miles\n\n\n\nDescription:\n\n\n\n\n“Trevor and Lesley lead the first of May’s Evening Rambles from Broadway over open farmland to Childswickham\, passing several farms including Gorsehill Abbey Farm with its ‘Pour your Own’ Milk Shed.” \n\n\n\nIf you are interested in joining this ramble please contact the club using the details below or through our contact form \n\n\n\n\nTel: 01386 443234\n\n\n\nEmail: info@eveshamramblingclub.org.uk
URL:https://eveshamramblingclub.org.uk/ramble/may-pm-10-ramble-2/
CATEGORIES:EVENING RAMBLE
ATTACH;FMTTYPE=image/jpeg:https://eveshamramblingclub.org.uk/everc/wp-content/uploads/2024/04/IMG_4194-e1712440570635.jpeg
END:VEVENT
BEGIN:VEVENT
DTSTART;TZID=Europe/London:20240515T100000
DTEND;TZID=Europe/London:20240515T130000
DTSTAMP:20260424T173234
CREATED:20240413T233000Z
LAST-MODIFIED:20240416T083344Z
UID:43680-1715767200-1715778000@eveshamramblingclub.org.uk
SUMMARY:May Short Ramble
DESCRIPTION:Members may view additional information by clicking  here \n\n\n\n\n\n\nLeader: Christine\n\n\n\nArea: Harvington\, Norton and The Valley\n\n\n\nStart Time: 10.00 am\n\n\n\nTerrain: Flat walk\, mainly tracks with some road walking.\n\n\n\nDistance: 5.5 miles\n\n\n\nDescription:\n\n\n\n\n“Starting in Harvington\, we walk down to the new woodland planted by Worcester County Council at New Farm\, Norton. We then follow the path of the disused railway track to The Valley where there will be a refreshment stop. We will then walk back to Harvington along the River Avon and through local orchards.” \n\n\n\nIf you are interested in joining this ramble please contact the club using the details below or through our contact form \n\n\n\n\nTel: 01386 443234\n\n\n\nEmail: info@eveshamramblingclub.org.uk
URL:https://eveshamramblingclub.org.uk/ramble/may-short-ramble-2/
CATEGORIES:SHORT RAMBLE
ATTACH;FMTTYPE=image/jpeg:https://eveshamramblingclub.org.uk/everc/wp-content/uploads/2024/04/May-ramble-picture.jpeg
END:VEVENT
BEGIN:VEVENT
DTSTART;TZID=Europe/London:20240516T100000
DTEND;TZID=Europe/London:20240516T160000
DTSTAMP:20260424T173234
CREATED:20240413T233000Z
LAST-MODIFIED:20240416T084900Z
UID:43919-1715853600-1715875200@eveshamramblingclub.org.uk
SUMMARY:May Special Ramble
DESCRIPTION:Members may view additional information by clicking  here \n\n\n\n\n\n\nLeader: Eleanor Creedmiles-Naraine\n\n\n\nArea: Twyning and Shuthonger\n\n\n\nStart: 10.00 am\n\n\n\nDistance: 7 miles\n\n\n\nTerrain: Most of the walk is on good paths and tracks\, although there are quite a few stiles. It’s a little hilly but nothing too steep.\n\n\n\nCost: Car parking and entrance to Showborough House Garden is FREE.\n\n\n\nDeadline: Please book by 8 May at the latest to join this outing.\n\n\n\nDescription:\n\n\n\n\n“A joint walk with Evesham Ramblers in the lovely countryside around Twyning\, followed by a visit to Showborough House Garden Sculpture Exhibition\, where you can view an incredible selection of art and sculpture in the delightful gardens and meadow.” \n\n\n\nIf you are interested in joining this ramble please contact the club using the details below or through our contact form \n\n\n\n\nTel: 01386 443234\n\n\n\nEmail: info@eveshamramblingclub.org.uk
URL:https://eveshamramblingclub.org.uk/ramble/may-special-ramble/
CATEGORIES:MIDWEEK RAMBLE
ATTACH;FMTTYPE=image/png:https://eveshamramblingclub.org.uk/everc/wp-content/uploads/2024/04/Showborough-b2-e1712233561654.png
END:VEVENT
BEGIN:VEVENT
DTSTART;TZID=Europe/London:20240524T163000
DTEND;TZID=Europe/London:20240524T200000
DTSTAMP:20260424T173234
CREATED:20240413T233000Z
LAST-MODIFIED:20240519T201857Z
UID:43659-1716568200-1716580800@eveshamramblingclub.org.uk
SUMMARY:May 24 Evening Ramble
DESCRIPTION:Members may view additional information by clicking  here. \n\n\n\n\n\n\nLeaders: Andy and Emily\n\n\n\nArea: Heightington\n\n\n\nStart Time: 4.30 pm\n\n\n\nTerrain:  Mostly hilly fields; a few very steep wooded inclines with challenging footing; six stiles.\n\n\n\nDistance: 5.2 miles\n\n\n\nDescription:\n\n\n\n\n“A repeat of our July 2023 walk\, we hope with less rain! We cross steep farmland\, dipping down to and up from wooded streams\, with a 17th century farmhouse and a hidden damson orchard along the way. Some of the gullies are very challenging and you are encouraged to bring walking sticks.” \n\n\n\nAt the end we hope to sample some fine craft beer at a one-man brewery in a barn. The brewery shuts at 8.00 pm\, and there will be a pop-up food stand there – if you want to eat\, please indicate this in your booking and we’ll send you the menu closer to the date to choose from in advance so they hold back food for our arrival after the walk. \n\n\n\nIf you are interested in joining this ramble please contact the club using the details below or through our contact form \n\n\n\n\nTel: 01386 443234\n\n\n\nEmail: info@eveshamramblingclub.org.uk
URL:https://eveshamramblingclub.org.uk/ramble/24-may-evening-ramble-2-2/
CATEGORIES:EVENING RAMBLE
ATTACH;FMTTYPE=image/jpeg:https://eveshamramblingclub.org.uk/everc/wp-content/uploads/2023/06/July-14-23-b-e1686663518935.jpg
END:VEVENT
BEGIN:VEVENT
DTSTART;TZID=Europe/London:20240526T100000
DTEND;TZID=Europe/London:20240526T170000
DTSTAMP:20260424T173234
CREATED:20240413T233000Z
LAST-MODIFIED:20240418T124854Z
UID:43675-1716717600-1716742800@eveshamramblingclub.org.uk
SUMMARY:May Sunday Ramble
DESCRIPTION:Members may view additional information by clicking  here. \n\n\n\n\n\n\nLeaders: Alan and Pauline\n\n\n\nArea: Kineton\, Butlers Marston\, Combrook\, Compton Verney\n\n\n\nStart: 10.00 am\n\n\n\nDistance: am 6 miles; pm 5 miles\n\n\n\nTerrain: Good tracks and field paths following streams and across rolling countryside and parkland with only a few gentle inclines.\n\n\n\nLunch: 1.00 pm\, Compton Verney\, Please bring a picnic lunch.\n\n\n\nDescription: \n\n\n\n\n“A lovely walk taking in the quiet villages of Butlers Marston and Combrook\, and the lakeside and estate of Compton Verney. There are spectacular views in all directions. There will be the opportunity for a drink at The White Swan in Kineton after the walk.” \n\n\n\n \n\n\n\nIf you are interested in joining this ramble please contact the club using the details below or through our contact form \n\n\n\n\nTel: 01386 443234\n\n\n\nEmail: info@eveshamramblingclub.org.uk
URL:https://eveshamramblingclub.org.uk/ramble/may-sunday-ramble-2/
CATEGORIES:SUNDAY RAMBLE
ATTACH;FMTTYPE=image/jpeg:https://eveshamramblingclub.org.uk/everc/wp-content/uploads/2024/03/Compton-Verney-b-e1711536557440.jpg
END:VEVENT
END:VCALENDAR