BEGIN:VCALENDAR
VERSION:2.0
PRODID:-//Evesham Rambling Club - ECPv6.15.20//NONSGML v1.0//EN
CALSCALE:GREGORIAN
METHOD:PUBLISH
X-ORIGINAL-URL:https://eveshamramblingclub.org.uk
X-WR-CALDESC:Events for Evesham Rambling Club
REFRESH-INTERVAL;VALUE=DURATION:PT1H
X-Robots-Tag:noindex
X-PUBLISHED-TTL:PT1H
BEGIN:VTIMEZONE
TZID:Europe/London
BEGIN:DAYLIGHT
TZOFFSETFROM:+0000
TZOFFSETTO:+0100
TZNAME:BST
DTSTART:20230326T010000
END:DAYLIGHT
BEGIN:STANDARD
TZOFFSETFROM:+0100
TZOFFSETTO:+0000
TZNAME:GMT
DTSTART:20231029T010000
END:STANDARD
BEGIN:DAYLIGHT
TZOFFSETFROM:+0000
TZOFFSETTO:+0100
TZNAME:BST
DTSTART:20240331T010000
END:DAYLIGHT
BEGIN:STANDARD
TZOFFSETFROM:+0100
TZOFFSETTO:+0000
TZNAME:GMT
DTSTART:20241027T010000
END:STANDARD
BEGIN:DAYLIGHT
TZOFFSETFROM:+0000
TZOFFSETTO:+0100
TZNAME:BST
DTSTART:20250330T010000
END:DAYLIGHT
BEGIN:STANDARD
TZOFFSETFROM:+0100
TZOFFSETTO:+0000
TZNAME:GMT
DTSTART:20251026T010000
END:STANDARD
END:VTIMEZONE
BEGIN:VEVENT
DTSTART;TZID=Europe/London:20240607T180000
DTEND;TZID=Europe/London:20240607T210000
DTSTAMP:20260424T161127
CREATED:20240513T233000Z
LAST-MODIFIED:20240507T185352Z
UID:44224-1717783200-1717794000@eveshamramblingclub.org.uk
SUMMARY:June 7  Evening Ramble
DESCRIPTION:Members may view additional information by clicking  here \n\n\n\n\n\n\nLeaders: David and Julie\n\n\n\nArea: Broadway and Tower \n\n\n\nStart Time: 6.00 pm\n\n\n\nTerrain:  Two steep sections\, all on good footpaths. One stile.\n\n\n\nDistance:  6.5 miles\n\n\n\nDescription:  “A circular walk climbing to Broadway Tower for spectacular views of Evesham Vale and surrounding areas. The walk takes us up Snowshill Road\, along footpaths to Coneygree Lane. We go up Coneygree Lane (steep) and then across footpaths to Middle Hill where there is another steep section. The walk continues to Broadway Tower where we can enjoy the views and have a brief stop before continuing the walk down the Cotswold Way (steep in sections with steps) back to the village where the walk finishes on the Green.”\n\n\n\n\n \n\n\n\nIf you are interested in joining this ramble please contact the club using the details below or through our contact form \n\n\n\n\nTel: 01386 443234\n\n\n\nEmail: info@eveshamramblingclub.org.uk
URL:https://eveshamramblingclub.org.uk/ramble/june-pm-7-ramble-2-2/
CATEGORIES:EVENING RAMBLE
ATTACH;FMTTYPE=image/jpeg:https://eveshamramblingclub.org.uk/everc/wp-content/uploads/2024/05/IMG_0748-1.jpeg
END:VEVENT
BEGIN:VEVENT
DTSTART;TZID=Europe/London:20240612T100000
DTEND;TZID=Europe/London:20240612T160000
DTSTAMP:20260424T161127
CREATED:20240513T233000Z
LAST-MODIFIED:20240603T095814Z
UID:44199-1718186400-1718208000@eveshamramblingclub.org.uk
SUMMARY:June Midweek Ramble
DESCRIPTION:Members may view additional information by clicking here \n\n\n\n\n\n\nLeaders: Geoff and Pat\n\n\n\nArea: Apperley\n\n\n\nStart: 10.00 am\n\n\n\nDistance:  10 miles\n\n\n\nTerrain: Riverside paths\, fields\, small hills.\n\n\n\nLunch: Approximately 12.30 pm\,  En route near the River Severn. Please bring a packed lunch.\n\n\n\nDescription: \n\n\n\n\n“A circular walk from Apperley\, taking in Odda’s Chapel\, part of the Severn Way and the Wildlife Trust’s Coombe Hill.“ \n\n\n\nIf you are interested in joining this ramble please contact the club using the details below or through our contact form \n\n\n\n\nTel: 01386 443234\n\n\n\nEmail: info@eveshamramblingclub.org.uk
URL:https://eveshamramblingclub.org.uk/ramble/june-midweek-ramble-2/
CATEGORIES:MIDWEEK RAMBLE
ATTACH;FMTTYPE=image/jpeg:https://eveshamramblingclub.org.uk/everc/wp-content/uploads/2024/04/Pat-Geoff-cb-e1714398544626.jpg
END:VEVENT
BEGIN:VEVENT
DTSTART;TZID=Europe/London:20240619T101500
DTEND;TZID=Europe/London:20240619T131500
DTSTAMP:20260424T161127
CREATED:20240514T113000Z
LAST-MODIFIED:20240507T163841Z
UID:44250-1718792100-1718802900@eveshamramblingclub.org.uk
SUMMARY:June Short Ramble
DESCRIPTION:Members may view additional information by clicking  here \n\n\n\n\n\n\nLeaders: Geoff and Rachel\n\n\n\nArea: Cookhill\, near Redditch\n\n\n\nStart Time: 10.15 am\n\n\n\nTerrain: Woodland\, open fields and lanes. Gently undulating pasture and arable land. No significant climbs. Several stiles and one ford. Could be muddy.\n\n\n\nDistance: 5.5 miles\n\n\n\nDescription:\n\n\n\n\n“Starting from New End\, we follow the Millennium Way and Spittle Brook to Coldcomfort Wood\, where we pick up the Monarch’s Way back to our starting point via the small village of Cladswell.“ \n\n\n\nIf you are interested in joining this ramble please contact the club using the details below or through our contact form \n\n\n\n\nTel: 01386 443234\n\n\n\nEmail: info@eveshamramblingclub.org.uk
URL:https://eveshamramblingclub.org.uk/ramble/june-short-ramble-2-2/
CATEGORIES:SHORT RAMBLE
ATTACH;FMTTYPE=image/jpeg:https://eveshamramblingclub.org.uk/everc/wp-content/uploads/2024/04/June-Short-b-e1714385850670.jpg
END:VEVENT
BEGIN:VEVENT
DTSTART;TZID=Europe/London:20240621T180000
DTEND;TZID=Europe/London:20240621T210000
DTSTAMP:20260424T161127
CREATED:20240513T233000Z
LAST-MODIFIED:20240507T190954Z
UID:44260-1718992800-1719003600@eveshamramblingclub.org.uk
SUMMARY:June 21  Evening Ramble
DESCRIPTION:Members may view additional information by clicking  here \n\n\n\n\n\n\nLeaders: Phil and Carol\n\n\n\nArea:  Stoulton\, Drakes Broughton\n\n\n\nStart Time: 6.00 pm\n\n\n\nTerrain:  Mostly paths across farmland and through woods.\n\n\n\nDistance:  5 miles\n\n\n\nDescription: “A gentle ramble from Hawbridge\, skirting Deerfold Wood\, through Drakes Broughton and return via Millennium Wood. There are several pubs nearby for refreshment after\, depending on the weather.”\n\n\n\n\nIf you are interested in joining this ramble please contact the club using the details below or through our contact form \n\n\n\n\nTel: 01386 443234\n\n\n\nEmail: info@eveshamramblingclub.org.uk
URL:https://eveshamramblingclub.org.uk/ramble/june-pm-21-ramble-2/
CATEGORIES:EVENING RAMBLE
ATTACH;FMTTYPE=image/jpeg:https://eveshamramblingclub.org.uk/everc/wp-content/uploads/2024/02/Phil-Carol-b-e1709297306983.jpg
END:VEVENT
BEGIN:VEVENT
DTSTART;TZID=Europe/London:20240623T093000
DTEND;TZID=Europe/London:20240623T160000
DTSTAMP:20260424T161127
CREATED:20240513T233000Z
LAST-MODIFIED:20240513T064632Z
UID:44298-1719135000-1719158400@eveshamramblingclub.org.uk
SUMMARY:June Sunday Ramble
DESCRIPTION:Members may view additional information by clicking  here. \n\n\n\n\n\n\nLeaders: Carl\n\n\n\nArea: Notgrove\n\n\n\nStart: 9.30 am\n\n\n\nDistance: 10 miles\n\n\n\nTerrain: Mainly farm tracks with some quiet roads and field paths. May be muddy in places. Some inclines but few stiles.\n\n\n\nLunch:  Please bring a picnic lunch.\n\n\n\nDescription: \n\n\n\n\n“   An exploration of some traditional Cotwolds villages. Mix of scenery with some good views across the Cotwolds and some areas feeling like a valley finishing with a lovely walk through a beech lined avenue .” \n\n\n\n \n\n\n\nIf you are interested in joining this ramble please contact the club using the details below or through our contact form \n\n\n\n\nTel: 01386 443234\n\n\n\nEmail: info@eveshamramblingclub.org.uk
URL:https://eveshamramblingclub.org.uk/ramble/june-sunday-ramble-2/
CATEGORIES:SUNDAY RAMBLE
ATTACH;FMTTYPE=image/jpeg:https://eveshamramblingclub.org.uk/everc/wp-content/uploads/2024/04/June-Sunday-b-e1714402381244.jpg
END:VEVENT
END:VCALENDAR