BEGIN:VCALENDAR
VERSION:2.0
PRODID:-//Evesham Rambling Club - ECPv6.15.20//NONSGML v1.0//EN
CALSCALE:GREGORIAN
METHOD:PUBLISH
X-WR-CALNAME:Evesham Rambling Club
X-ORIGINAL-URL:https://eveshamramblingclub.org.uk
X-WR-CALDESC:Events for Evesham Rambling Club
REFRESH-INTERVAL;VALUE=DURATION:PT1H
X-Robots-Tag:noindex
X-PUBLISHED-TTL:PT1H
BEGIN:VTIMEZONE
TZID:Europe/London
BEGIN:DAYLIGHT
TZOFFSETFROM:+0000
TZOFFSETTO:+0100
TZNAME:BST
DTSTART:20230326T010000
END:DAYLIGHT
BEGIN:STANDARD
TZOFFSETFROM:+0100
TZOFFSETTO:+0000
TZNAME:GMT
DTSTART:20231029T010000
END:STANDARD
BEGIN:DAYLIGHT
TZOFFSETFROM:+0000
TZOFFSETTO:+0100
TZNAME:BST
DTSTART:20240331T010000
END:DAYLIGHT
BEGIN:STANDARD
TZOFFSETFROM:+0100
TZOFFSETTO:+0000
TZNAME:GMT
DTSTART:20241027T010000
END:STANDARD
BEGIN:DAYLIGHT
TZOFFSETFROM:+0000
TZOFFSETTO:+0100
TZNAME:BST
DTSTART:20250330T010000
END:DAYLIGHT
BEGIN:STANDARD
TZOFFSETFROM:+0100
TZOFFSETTO:+0000
TZNAME:GMT
DTSTART:20251026T010000
END:STANDARD
END:VTIMEZONE
BEGIN:VEVENT
DTSTART;TZID=Europe/London:20240814T100000
DTEND;TZID=Europe/London:20240814T153000
DTSTAMP:20260424T130144
CREATED:20240713T233000Z
LAST-MODIFIED:20240813T180019Z
UID:44880-1723629600-1723649400@eveshamramblingclub.org.uk
SUMMARY:August Midweek Ramble
DESCRIPTION:Members may view additional information by clicking here \n\n\n\n\n\n\nLeaders: \n\n\n\nRachel and Geoff\n\n\n\nArea: Guiting Power\n\n\n\nStart: 10.00 am\n\n\n\nDistance:  9 miles\n\n\n\nTerrain: Good tracks\, lanes and footpaths. Arable\, pasture and woodland. Rolling countryside and some gentle climbs with a long descent through a wood.\n\n\n\nLunch:1pm\, Guiting Wood. Please bring a picnic lunch.\n\n\n\nDescription: \n\n\n\n\n “This is a circular walk. Following The Diamond Way and The Warden’s Way\, we head south from Guiting Power towards Naunton\, before joining The Windrush Way. This leads us over Windrush Hill and the site of the Medieval Village of Hawling\, to the edge of Guiting Wood\, where we will have a lunch stop.After lunch we pick up the Winchcombe Way and Diamond Way\, which take us through Guiting Wood\, back to Guiting Power.” \n\n\n\nIf you are interested in joining this ramble please contact the club using the details below or through our contact form \n\n\n\n\nTel: 01386 443234\n\n\n\nEmail: info@eveshamramblingclub.org.uk
URL:https://eveshamramblingclub.org.uk/ramble/august-midweek-ramble-2/
CATEGORIES:MIDWEEK RAMBLE
ATTACH;FMTTYPE=image/jpeg:https://eveshamramblingclub.org.uk/everc/wp-content/uploads/2022/08/Guiting-Power-b-e1661000359240.jpg
END:VEVENT
BEGIN:VEVENT
DTSTART;TZID=Europe/London:20240816T173000
DTEND;TZID=Europe/London:20240816T203000
DTSTAMP:20260424T130144
CREATED:20240713T233000Z
LAST-MODIFIED:20240703T171418Z
UID:44887-1723829400-1723840200@eveshamramblingclub.org.uk
SUMMARY:August 16  Evening Ramble
DESCRIPTION:Members may view additional information by clicking  here \n\n\n\n\n\n\nLeaders: Paul and Fran\n\n\n\nArea:  Upton Snodsbury – Broughton Hacket – White Ladies Aston \n\n\n\nStart Time: 5.30 pm\n\n\n\nTerrain: Almost exclusively farmland\, so could be muddy if it has been raining. Chances of livestock in the fields and there are some stiles. But mostly flat terrain. \n\n\n\nDistance:  5.4 miles\n\n\n\nDescription: ” We start and end at The Oak Inn in Upton Snodsbury. We leave the village and head across farmland towards Broughton Hackett. Before we get anywhere near the village of Broughton Hacket (it is a Friday evening and it’s ‘all you can eat’ carvery at The March Hare\, so we will stay away from the chaos!)\, we veer left and head towards the pretty little village of White Ladies Aston.We complete a small loop around the village of White Ladies Aston before heading back towards Cowsden and then to our start point.”\n\n\n\nAfter the Walk  We will retire to the Oak Pub after the walk for a drink. If you would like to eat (the leaders will be eating) please let us know on your booking form and what your choice is from the menu. Scroll down to ‘The Oak Classic’s Summer Menu.\n\n\n\n\nIf you are interested in joining this ramble please contact the club using the details below or through our contact form \n\n\n\n\nTel: 01386 443234\n\n\n\nEmail: info@eveshamramblingclub.org.uk
URL:https://eveshamramblingclub.org.uk/ramble/august-pm-16-ramble-2/
CATEGORIES:EVENING RAMBLE
ATTACH;FMTTYPE=image/jpeg:https://eveshamramblingclub.org.uk/everc/wp-content/uploads/2024/06/Aug-16-Evening-b.jpg
END:VEVENT
BEGIN:VEVENT
DTSTART;TZID=Europe/London:20240821T100000
DTEND;TZID=Europe/London:20240821T123000
DTSTAMP:20260424T130144
CREATED:20240713T233000Z
LAST-MODIFIED:20240703T171334Z
UID:44897-1724234400-1724243400@eveshamramblingclub.org.uk
SUMMARY:August Short Ramble
DESCRIPTION:Members may view additional information by clicking  here \n\n\n\n\n\n\nLeader: Michael\n\n\n\nArea: Winchcombe. Gloucestershire\n\n\n\nStart Time: 10.00 am\n\n\n\nTerrain: Open farm land some of it cultivated\, wooded paths and quiet road walking.\n\n\n\nDistance: 4.5 miles 6.5 km\n\n\n\nDescription:\n\n\n\n\n“An invigorating circular walk following the Winchcombe Way and returning via the Gloucestershire Way with spectacular views across the countryside.Note if recently rained some paths may be muddy and slippery.” \n\n\n\nIf you are interested in joining this ramble please contact the club using the details below or through our contact form \n\n\n\n\nTel: 01386 443234\n\n\n\nEmail: info@eveshamramblingclub.org.uk
URL:https://eveshamramblingclub.org.uk/ramble/august-short-ramble-2/
CATEGORIES:SHORT RAMBLE
ATTACH;FMTTYPE=image/jpeg:https://eveshamramblingclub.org.uk/everc/wp-content/uploads/2024/06/Michael-Hicks-b-e1718618511387.jpg
END:VEVENT
BEGIN:VEVENT
DTSTART;TZID=Europe/London:20240825T100000
DTEND;TZID=Europe/London:20240825T160000
DTSTAMP:20260424T130144
CREATED:20240713T233000Z
LAST-MODIFIED:20240703T171249Z
UID:44905-1724580000-1724601600@eveshamramblingclub.org.uk
SUMMARY:August Sunday Ramble
DESCRIPTION:Members may view additional information by clicking  here. \n\n\n\n\n\n\nLeader: Clive\n\n\n\nArea: Birlingham\, Eckington\, Bredon Hill and Great Comberton\n\n\n\nStart: 10 am\n\n\n\nDistance:  am 5.5 miles; pm 4.4 miles\n\n\n\nTerrain: Mainly flat with one long ascent to Bredon Hill.\n\n\n\nLunch:  1pm. Bredon Hill at the Fort. Please bring drinks and snacks.\n\n\n\nDescription: \n\n\n\n\n“Starts at Birlingham\, follows the Avon\, then through Eckington\, climb up Bredon Hill\, then back down to Great Comberton and back to Birlingham.“ \n\n\n\nThere are no toilets on the route. \n\n\n\n \n\n\n\nIf you are interested in joining this ramble please contact the club using the details below or through our contact form \n\n\n\n\nTel: 01386 443234\n\n\n\nEmail: info@eveshamramblingclub.org.uk
URL:https://eveshamramblingclub.org.uk/ramble/august-sunday-ramble-2/
CATEGORIES:SUNDAY RAMBLE
ATTACH;FMTTYPE=image/jpeg:https://eveshamramblingclub.org.uk/everc/wp-content/uploads/2024/06/Bredon-Hill-Fort-b-e1719332461190.jpg
END:VEVENT
BEGIN:VEVENT
DTSTART;TZID=Europe/London:20240830T180000
DTEND;TZID=Europe/London:20240830T203000
DTSTAMP:20260424T130144
CREATED:20240713T233000Z
LAST-MODIFIED:20240703T171114Z
UID:44910-1725040800-1725049800@eveshamramblingclub.org.uk
SUMMARY:August 30  Evening Ramble
DESCRIPTION:Members may view additional information by clicking  here \n\n\n\n\n\n\nLeaders: Trevor and Lesley\n\n\n\nArea:  Broadway\, Laverton and Buckland\n\n\n\nStart Time: 6.00 pm\n\n\n\nTerrain: This is a good hill climb up onto ‘The Bank’. There are a number of reasonably well maintained stiles. The footpaths into Laverton and Buckland are well maintained. Our descent through Broadway Wood can be muddy\, due to the springs above. \n\n\n\nDistance:  5.2 miles\n\n\n\nDescription: ” Starting from ‘The Green’\, we head south along Snowshill Road to West End where we pick up a footpath heading steeply uphill from Pye Corner\, across very prominent ridge and furrow. From here we can take in the views across to The Bank and Dulverton Hill\, possibly catching a glimpse of Broadway Tower. At Manor Farm we take the path out towards the village of Laverton from where we pick up the Winchcombe Way towards the village of Buckland. Here we leave the Winchcombe Way and follow the footpath through Broadway Coppice and then head downhill crossing West End Lane\, taking the path round the Flood Alleviation scheme back into Broadway “\n\n\n\n\nIf you are interested in joining this ramble please contact the club using the details below or through our contact form \n\n\n\n\nTel: 01386 443234\n\n\n\nMail: info@eveshamramblingclub.org.uk
URL:https://eveshamramblingclub.org.uk/ramble/august-pm-30-ramble-2/
CATEGORIES:EVENING RAMBLE
ATTACH;FMTTYPE=image/jpeg:https://eveshamramblingclub.org.uk/everc/wp-content/uploads/2024/02/Trevor-Lesley-b-e1627128268872.jpg
END:VEVENT
END:VCALENDAR