BEGIN:VCALENDAR
VERSION:2.0
PRODID:-//Evesham Rambling Club - ECPv6.15.20//NONSGML v1.0//EN
CALSCALE:GREGORIAN
METHOD:PUBLISH
X-ORIGINAL-URL:https://eveshamramblingclub.org.uk
X-WR-CALDESC:Events for Evesham Rambling Club
REFRESH-INTERVAL;VALUE=DURATION:PT1H
X-Robots-Tag:noindex
X-PUBLISHED-TTL:PT1H
BEGIN:VTIMEZONE
TZID:Europe/London
BEGIN:DAYLIGHT
TZOFFSETFROM:+0000
TZOFFSETTO:+0100
TZNAME:BST
DTSTART:20230326T010000
END:DAYLIGHT
BEGIN:STANDARD
TZOFFSETFROM:+0100
TZOFFSETTO:+0000
TZNAME:GMT
DTSTART:20231029T010000
END:STANDARD
BEGIN:DAYLIGHT
TZOFFSETFROM:+0000
TZOFFSETTO:+0100
TZNAME:BST
DTSTART:20240331T010000
END:DAYLIGHT
BEGIN:STANDARD
TZOFFSETFROM:+0100
TZOFFSETTO:+0000
TZNAME:GMT
DTSTART:20241027T010000
END:STANDARD
BEGIN:DAYLIGHT
TZOFFSETFROM:+0000
TZOFFSETTO:+0100
TZNAME:BST
DTSTART:20250330T010000
END:DAYLIGHT
BEGIN:STANDARD
TZOFFSETFROM:+0100
TZOFFSETTO:+0000
TZNAME:GMT
DTSTART:20251026T010000
END:STANDARD
END:VTIMEZONE
BEGIN:VEVENT
DTSTART;TZID=Europe/London:20240911T100000
DTEND;TZID=Europe/London:20240911T153000
DTSTAMP:20260424T113109
CREATED:20240813T233000Z
LAST-MODIFIED:20240804T105416Z
UID:45082-1726048800-1726068600@eveshamramblingclub.org.uk
SUMMARY:September Midweek Ramble
DESCRIPTION:Members may view additional information by clicking here \n\n\n\n\n\n\nLeaders: Michael and Lesley\n\n\n\nArea: Newent  and May Hill\, Gloucestershire.\n\n\n\nStart: 10.00 am\n\n\n\nDistance:  9 miles\n\n\n\nTerrain: The terrain is varied\, comprising field walking\, well-appointed villages\, wooded trail and panoramic views.\n\n\n\nLunch 12 pm\, Top of May Hill. Please bring a picnic lunch.\n\n\n\nDescription: \n\n\n\n\n“A circular walk from Newent to the summit of May Hill returning through Newent Woods.” \n\n\n\n \n\n\n\nIf you are interested in joining this ramble please contact the club using the details below or through our contact form \n\n\n\n\nTel: 01386 443234\n\n\n\nEmail: info@eveshamramblingclub.org.uk
URL:https://eveshamramblingclub.org.uk/ramble/september-midweek-ramble-2/
CATEGORIES:MIDWEEK RAMBLE
ATTACH;FMTTYPE=image/jpeg:https://eveshamramblingclub.org.uk/everc/wp-content/uploads/2024/08/September-MW-b-e1722511070392.jpg
END:VEVENT
BEGIN:VEVENT
DTSTART;TZID=Europe/London:20240914T100000
DTEND;TZID=Europe/London:20240914T123000
DTSTAMP:20260424T113109
CREATED:20240813T233000Z
LAST-MODIFIED:20240809T100935Z
UID:45103-1726308000-1726317000@eveshamramblingclub.org.uk
SUMMARY:September Saturday Short Ramble
DESCRIPTION:Members may view additional information by clicking  here \n\n\n\n\n\n\nLeaders: Mike and Val\n\n\n\nArea: Kempsey\, Worcestershire\n\n\n\nStart Time: 10.00 am prompt\, please\n\n\n\nTerrain: Flat river meadows and country lanes.\n\n\n\nDistance: 5 miles: 8 km\n\n\n\nDescription:\n\n\n\n\n“A casual circular morning walk. along the River Severn. Through meadows of turf\, returning to the Talbot Inn. Walkers need to order at the bar if staying after the walk” \n\n\n\nIf you are interested in joining this ramble please contact the club using the details below or through our contact form \n\n\n\n\nTel: 01386 443234\n\n\n\nEmail: info@eveshamramblingclub.org.uk
URL:https://eveshamramblingclub.org.uk/ramble/september-saturday-short-ramble-2/
CATEGORIES:SATURDAY RAMBLE
ATTACH;FMTTYPE=image/jpeg:https://eveshamramblingclub.org.uk/everc/wp-content/uploads/2019/05/Mike-negotiates-a-dodgey-stile.jpg
END:VEVENT
BEGIN:VEVENT
DTSTART;TZID=Europe/London:20240918T100000
DTEND;TZID=Europe/London:20240918T123000
DTSTAMP:20260424T113109
CREATED:20240813T233000Z
LAST-MODIFIED:20240804T105035Z
UID:45090-1726653600-1726662600@eveshamramblingclub.org.uk
SUMMARY:September Short Ramble
DESCRIPTION:Members may view additional information by clicking  here \n\n\n\n\n\n\nLeader:Frank and Vivienne\n\n\n\nArea: Hampton Lucy\, Warwickshire.\n\n\n\nStart Time: 10.00 am\n\n\n\nTerrain: An easy\, mostly flat walk but hilly in places. Mainly tracks with a short road walk. Three stiles.\n\n\n\nDistance: 5.2 miles \n\n\n\nDescription:\n\n\n\n\n“From Hampton Lucy we head north up Scar Bank and continue to a small hamlet before following tracks past Daisy Hill Farm and the road up to Mount Pleasant Farm. Good panoramic views on this scenic walk in the Warwickshire countryside.” \n\n\n\nIf you are interested in joining this ramble please contact the club using the details below or through our contact form \n\n\n\n\nTel: 01386 443234\n\n\n\nEmail: info@eveshamramblingclub.org.uk
URL:https://eveshamramblingclub.org.uk/ramble/september-short-ramble-2/
CATEGORIES:SHORT RAMBLE
ATTACH;FMTTYPE=image/jpeg:https://eveshamramblingclub.org.uk/everc/wp-content/uploads/2024/08/September-Short-2b-e1722526292251.jpg
END:VEVENT
BEGIN:VEVENT
DTSTART;TZID=Europe/London:20240929T100000
DTEND;TZID=Europe/London:20240929T163000
DTSTAMP:20260424T113109
CREATED:20240813T233000Z
LAST-MODIFIED:20240804T105127Z
UID:45097-1727604000-1727627400@eveshamramblingclub.org.uk
SUMMARY:September Sunday Ramble
DESCRIPTION:Members may view additional information by clicking  here. \n\n\n\n\n\n\nLeaders: Diane and Carl\n\n\n\nArea: Alcester\n\n\n\nStart: 10 am\n\n\n\nDistance:  11.5 miles.\n\n\n\nTerrain: Forest paths\, bridleways\, open countryside and river paths. Just a couple of stiles and no hills of note. Although there isn’t a lot of walking over farmland\, some of the ground is deeply rutted and uneven as a result of the wet winter and spring.\n\n\n\nLunch:  12.30/1pm.  Please bring a picnic lunch\n\n\n\nDescription: \n\n\n\n\n“A fabulous circular ramble through the attractive countryside around the old Roman town of Alcester. We follow parts of the Arden Way taking in Oversley Wood\, Haselor Church\, through Great Alne Mills and onto Great Alne before following the Arden Way and the River Arrow back to Alcester. The day promises a variety of beautiful views.” \n\n\n\n \n\n\n\n \n\n\n\nIf you are interested in joining this ramble please contact the club using the details below or through our contact form \n\n\n\n\nTel: 01386 443234\n\n\n\nEmail: info@eveshamramblingclub.org.uk
URL:https://eveshamramblingclub.org.uk/ramble/september-sunday-ramble-2/
CATEGORIES:SUNDAY RAMBLE
ATTACH;FMTTYPE=image/jpeg:https://eveshamramblingclub.org.uk/everc/wp-content/uploads/2024/08/September-Sunday-b-e1722513580904.jpg
END:VEVENT
END:VCALENDAR