BEGIN:VCALENDAR
VERSION:2.0
PRODID:-//Evesham Rambling Club - ECPv6.15.20//NONSGML v1.0//EN
CALSCALE:GREGORIAN
METHOD:PUBLISH
X-WR-CALNAME:Evesham Rambling Club
X-ORIGINAL-URL:https://eveshamramblingclub.org.uk
X-WR-CALDESC:Events for Evesham Rambling Club
REFRESH-INTERVAL;VALUE=DURATION:PT1H
X-Robots-Tag:noindex
X-PUBLISHED-TTL:PT1H
BEGIN:VTIMEZONE
TZID:Europe/London
BEGIN:DAYLIGHT
TZOFFSETFROM:+0000
TZOFFSETTO:+0100
TZNAME:BST
DTSTART:20240331T010000
END:DAYLIGHT
BEGIN:STANDARD
TZOFFSETFROM:+0100
TZOFFSETTO:+0000
TZNAME:GMT
DTSTART:20241027T010000
END:STANDARD
BEGIN:DAYLIGHT
TZOFFSETFROM:+0000
TZOFFSETTO:+0100
TZNAME:BST
DTSTART:20250330T010000
END:DAYLIGHT
BEGIN:STANDARD
TZOFFSETFROM:+0100
TZOFFSETTO:+0000
TZNAME:GMT
DTSTART:20251026T010000
END:STANDARD
BEGIN:DAYLIGHT
TZOFFSETFROM:+0000
TZOFFSETTO:+0100
TZNAME:BST
DTSTART:20260329T010000
END:DAYLIGHT
BEGIN:STANDARD
TZOFFSETFROM:+0100
TZOFFSETTO:+0000
TZNAME:GMT
DTSTART:20261025T010000
END:STANDARD
END:VTIMEZONE
BEGIN:VEVENT
DTSTART;TZID=Europe/London:20250514T100000
DTEND;TZID=Europe/London:20250514T170000
DTSTAMP:20260421T091321
CREATED:20250413T233000Z
LAST-MODIFIED:20250428T152147Z
UID:48395-1747216800-1747242000@eveshamramblingclub.org.uk
SUMMARY:May Midweek Ramble
DESCRIPTION:Members may view additional information by clicking  here \n\n\n\n\n\n\nLeaders: Carl and Diane\n\n\n\nArea:  Kingham\, Moreton-in-Marsh\n\n\n\nStart: 10.00 am\n\n\n\nDistance: am 6.2 miles; pm 5 miles\n\n\n\nTerrain: A mixture of field paths\, farm tracks and road walking. Generally flat. May be muddy in places.\n\n\n\nDescription: \n\n\n\n\n \n\n\n\n“Something different. To celebrate Railway 200 (200 years since the birth of the Railway) this a linear walk from Kingham to Moreton-in-Marsh. Meeting at Moreton-in-Marsh we will catch the train to Kingham and walk back to Moreton\, visiting an interesting church and some literary references along the way. To really enter the spirit why not catch the train from Evesham and return to Evesham on a return ticket.”         \n\n\n\nLunch:\n\n\n\n\nWhen: Around 1.00 pm\n\n\n\nWhere: Chastleton House\n\n\n\nDetails: Please bring a picnic lunch but tea/coffee and cakes may be available from St Mary’s Church. Cash only.\n\n\n\n\nIf you are interested in joining this ramble please contact the club using the details below or through our contact form \n\n\n\n\nTel: 01386 443234\n\n\n\nEmail: info@eveshamramblingclub.org.uk
URL:https://eveshamramblingclub.org.uk/ramble/may-midweek-ramble-2-2-2/
CATEGORIES:MIDWEEK RAMBLE
ATTACH;FMTTYPE=image/jpeg:https://eveshamramblingclub.org.uk/everc/wp-content/uploads/2025/04/di-and-carl-b-3.jpg
END:VEVENT
BEGIN:VEVENT
DTSTART;TZID=Europe/London:20250516T180000
DTEND;TZID=Europe/London:20250516T203000
DTSTAMP:20260421T091321
CREATED:20250413T233000Z
LAST-MODIFIED:20250406T105238Z
UID:48475-1747418400-1747427400@eveshamramblingclub.org.uk
SUMMARY:May 16  Evening Ramble
DESCRIPTION:Members may view additional information by clicking  here \n\n\n\n\n\n\nLeaders: Phil and Carol\n\n\n\nArea: Kempsey Common and Pirton\n\n\n\nStart Time: 6.00 pm\n\n\n\nTerrain: Common land and field paths\n\n\n\nDistance: 5 miles\n\n\n\nDescription: ” After crossing Kempsey Common we visit the18th-century folly\, Pirton Castle\, built by the Earl of Coventry to view from his distant estate at Croome Court\, and on to nearby Pirton Pool and then to Pirton Church. Our return route is via Stonehall and Kempsey Commons.”\n\n\n\n\nIf you are interested in joining this ramble please contact the club using the details below or through our contact form \n\n\n\n\nTel: 01386 443234\n\n\n\nMail: info@eveshamramblingclub.org.uk
URL:https://eveshamramblingclub.org.uk/ramble/may-pm-25-ramble-2/
CATEGORIES:EVENING RAMBLE
ATTACH;FMTTYPE=image/png:https://eveshamramblingclub.org.uk/everc/wp-content/uploads/2025/03/IMG_5671.PNG-e.png
END:VEVENT
BEGIN:VEVENT
DTSTART;TZID=Europe/London:20250521T100000
DTEND;TZID=Europe/London:20250521T130000
DTSTAMP:20260421T091321
CREATED:20250413T233000Z
LAST-MODIFIED:20250405T161404Z
UID:48459-1747821600-1747832400@eveshamramblingclub.org.uk
SUMMARY:May Short Ramble
DESCRIPTION:Members may view additional information by clicking  here \n\n\n\n\n\n\n\n\nLeaders: Phil and Carol\n\n\n\nArea: The Abberley Hills \n\n\n\nStart Time: 10 am\n\n\n\nTerrain: This is a challenging walk with several steep sections. Depending on the time of year the surface may be slippery and wet in places. 10 gates and 3 stiles.\n\n\n\nDistance: 5 miles\n\n\n\nDescription:\n\n\n\n\n“An enjoyable 5 mile circular walk\, combining woods and views from Abberley Hill with lanes and fields below\, and taking in part of the Worcestershire Way. There is a steep downhill section with steps\, when walking poles may be helpful.   “ \n\n\n\n \n\n\n\n \n\n\n\n \n\n\n\n\n\n\n\nIf you are interested in joining this ramble please contact the club using the details below or through our contact form \n\n\n\n\nTel: 01386 443234\n\n\n\nEmail: info@eveshamramblingclub.org.uk
URL:https://eveshamramblingclub.org.uk/ramble/may-short-ramble-2-2/
CATEGORIES:SHORT RAMBLE
ATTACH;FMTTYPE=image/png:https://eveshamramblingclub.org.uk/everc/wp-content/uploads/2025/03/IMG_5671.PNG-e.png
END:VEVENT
BEGIN:VEVENT
DTSTART;TZID=Europe/London:20250525T100000
DTEND;TZID=Europe/London:20250525T160000
DTSTAMP:20260421T091321
CREATED:20250413T233000Z
LAST-MODIFIED:20250406T113837Z
UID:48482-1748167200-1748188800@eveshamramblingclub.org.uk
SUMMARY:May Sunday Ramble
DESCRIPTION:Members may view additional information by clicking  here. \n\n\n\n\n\n\nLeaders: Diane and Carl\n\n\n\nArea: Goodrich and the Wye Valley\n\n\n\nStart: 10.00 am\n\n\n\nDistance: 9.5 miles\n\n\n\nTerrain: River bank paths\, some woodland paths and farmland. A fairly flat walk; it will be muddy if there has been rain.\n\n\n\nLunch: Please bring a picnic lunch.\n\n\n\nDescription: \n\n\n\n\n“A pleasant stroll along the banks of the River Wye following the Wye Valley Walk with views of the Symonds Yat viewing point and Peregrine Falcon nesting site.   “ \n\n\n\nAfter the Ramble:\n\n\n\n\nWhen: 4:00/4:30\n\n\n\nWhere: Inn on the Wye\, Kerne Bridge\n\n\n\n\n \n\n\n\n \n\n\n\nIf you are interested in joining this ramble please contact the club using the details below or through our contact form \n\n\n\n\nTel: 01386 443234\n\n\n\nEmail: info@eveshamramblingclub.org.uk
URL:https://eveshamramblingclub.org.uk/ramble/may-sunday-ramble-2-2/
CATEGORIES:SUNDAY RAMBLE
ATTACH;FMTTYPE=image/jpeg:https://eveshamramblingclub.org.uk/everc/wp-content/uploads/2025/04/May-2025-v2.jpg
END:VEVENT
BEGIN:VEVENT
DTSTART;TZID=Europe/London:20250530T180000
DTEND;TZID=Europe/London:20250530T203000
DTSTAMP:20260421T091321
CREATED:20250413T233000Z
LAST-MODIFIED:20250410T121150Z
UID:48550-1748628000-1748637000@eveshamramblingclub.org.uk
SUMMARY:May 30  Evening Ramble
DESCRIPTION:Members may view additional information by clicking  here \n\n\n\n\n\n\nLeader: Carl\n\n\n\nArea: Morgrove Coppice and Spernal Park\n\n\n\nStart Time: 6.00 pm\n\n\n\nTerrain: A mixture of wood and field paths. Small amount of road walking. Generally flat but a couple of short\, gentle ascents/descents. May be muddy in places.\n\n\n\nDistance: 5.7 miles\n\n\n\nDescription: ” A nice gentle walk around Spernall Park in the Heart of England Forest. Will be some good views if the weather is clear.”\n\n\n\n\nIf you are interested in joining this ramble please contact the club using the details below or through our contact form \n\n\n\n\nTel: 01386 443234\n\n\n\nMail: info@eveshamramblingclub.org.uk
URL:https://eveshamramblingclub.org.uk/ramble/may-pm-25-ramble-2-2/
CATEGORIES:EVENING RAMBLE
ATTACH;FMTTYPE=image/jpeg:https://eveshamramblingclub.org.uk/everc/wp-content/uploads/2023/01/Carl-small-ls.jpg
END:VEVENT
END:VCALENDAR