BEGIN:VCALENDAR
VERSION:2.0
PRODID:-//Evesham Rambling Club - ECPv6.15.20//NONSGML v1.0//EN
CALSCALE:GREGORIAN
METHOD:PUBLISH
X-ORIGINAL-URL:https://eveshamramblingclub.org.uk
X-WR-CALDESC:Events for Evesham Rambling Club
REFRESH-INTERVAL;VALUE=DURATION:PT1H
X-Robots-Tag:noindex
X-PUBLISHED-TTL:PT1H
BEGIN:VTIMEZONE
TZID:Europe/London
BEGIN:DAYLIGHT
TZOFFSETFROM:+0000
TZOFFSETTO:+0100
TZNAME:BST
DTSTART:20240331T010000
END:DAYLIGHT
BEGIN:STANDARD
TZOFFSETFROM:+0100
TZOFFSETTO:+0000
TZNAME:GMT
DTSTART:20241027T010000
END:STANDARD
BEGIN:DAYLIGHT
TZOFFSETFROM:+0000
TZOFFSETTO:+0100
TZNAME:BST
DTSTART:20250330T010000
END:DAYLIGHT
BEGIN:STANDARD
TZOFFSETFROM:+0100
TZOFFSETTO:+0000
TZNAME:GMT
DTSTART:20251026T010000
END:STANDARD
BEGIN:DAYLIGHT
TZOFFSETFROM:+0000
TZOFFSETTO:+0100
TZNAME:BST
DTSTART:20260329T010000
END:DAYLIGHT
BEGIN:STANDARD
TZOFFSETFROM:+0100
TZOFFSETTO:+0000
TZNAME:GMT
DTSTART:20261025T010000
END:STANDARD
END:VTIMEZONE
BEGIN:VEVENT
DTSTART;TZID=Europe/London:20250709T100000
DTEND;TZID=Europe/London:20250709T163000
DTSTAMP:20260423T021032
CREATED:20250613T233000Z
LAST-MODIFIED:20250527T114530Z
UID:49212-1752055200-1752078600@eveshamramblingclub.org.uk
SUMMARY:July Midweek Ramble
DESCRIPTION:Members may view additional information by clicking  here \n\n\n\n\n\n\nLeaders: Paul and Fran\n\n\n\nArea: Broughton Hackett\n\n\n\nStart: 10.00 am\n\n\n\nDistance: am 5.5 miles; pm 5.2 miles\n\n\n\nTerrain: Mixture of farmland and woodland on well-marked paths with some\, mostly quiet\, roads. Potential for livestock in the fields and for mud under foot if it’s been raining. There are some stiles. There is one significant hill in the morning.\n\n\n\nDescription: \n\n\n\n\n \n\n\n\n” This figure of eight walk starts\, lunches\, and finishes at the March Hare Inn at Broughton Hackett.The morning loop skirts Thrift Wood\, with great views across Worcestershire\, before circling around and walking through the village of Crowle. The afternoon loop heads towards the pretty village of White Ladies Aston before turning towards Upton Snodsbury and then back to Broughton Hackett.”         \n\n\n\nLunch:\n\n\n\n\nWhen: Around 1.00 pm\n\n\n\nWhere: March Hare Inn\n\n\n\nDetails: or picnic on benches.\n\n\n\n\nIf you are interested in joining this ramble please contact the club using the details below or through our contact form \n\n\n\n\nTel: 01386 443234\n\n\n\nEmail: info@eveshamramblingclub.org.uk
URL:https://eveshamramblingclub.org.uk/ramble/july-midweek-ramble-2025/
CATEGORIES:MIDWEEK RAMBLE
ATTACH;FMTTYPE=image/jpeg:https://eveshamramblingclub.org.uk/everc/wp-content/uploads/2025/05/Paul-and-Fran-mountain.jpg
END:VEVENT
BEGIN:VEVENT
DTSTART;TZID=Europe/London:20250711T173000
DTEND;TZID=Europe/London:20250711T200000
DTSTAMP:20260423T021032
CREATED:20250613T233000Z
LAST-MODIFIED:20250527T141007Z
UID:49222-1752255000-1752264000@eveshamramblingclub.org.uk
SUMMARY:July 11  Evening Ramble
DESCRIPTION:Members may view additional information by clicking  here \n\n\n\n\n\n\nLeaders:  Paul and Hazel\n\n\n\nArea: Severn Stoke\, Worcestershire\n\n\n\nStart Time: 5.30 pm\n\n\n\nTerrain: Flat river path\, lanes and tracks\n\n\n\nDistance: 5 miles\n\n\n\nDescription: “An evening stroll along the River Severn\, visiting Clifton and Ashmoor Common .”\n\n\n\n\nIf you are interested in joining this ramble please contact the club using the details below or through our contact form \n\n\n\n\nTel: 01386 443234\n\n\n\nMail: info@eveshamramblingclub.org.uk
URL:https://eveshamramblingclub.org.uk/ramble/july-pm-11-ramble-2-2/
CATEGORIES:EVENING RAMBLE
ATTACH;FMTTYPE=image/jpeg:https://eveshamramblingclub.org.uk/everc/wp-content/uploads/2023/12/Paul-Hazel-3-b-e1703156441497.jpg
END:VEVENT
BEGIN:VEVENT
DTSTART;TZID=Europe/London:20250716T100000
DTEND;TZID=Europe/London:20250716T130000
DTSTAMP:20260423T021032
CREATED:20250613T233000Z
LAST-MODIFIED:20250527T143407Z
UID:49230-1752660000-1752670800@eveshamramblingclub.org.uk
SUMMARY:July Short Ramble
DESCRIPTION:Members may view additional information by clicking  here \n\n\n\n\n\n\n\n\nLeaders: Geoff and Pat\n\n\n\nArea: Andoversford and Sevenhampton\n\n\n\nStart Time: 10.00 am\n\n\n\nTerrain: Mainly flat with some short ascents.\n\n\n\nDistance: 5.6 miles\n\n\n\nDescription:\n\n\n\n\n“From Andoversford we head to the Medieval village of Whittington then ascend over meadows to Sevenhampton and return through Syreford.” \n\n\n\n \n\n\n\n \n\n\n\n \n\n\n\n \n\n\n\n\n\n\n\nIf you are interested in joining this ramble please contact the club using the details below or through our contact form \n\n\n\n\nTel: 01386 443234\n\n\n\nEmail: info@eveshamramblingclub.org.uk
URL:https://eveshamramblingclub.org.uk/ramble/july-short-ramble-2025/
CATEGORIES:SHORT RAMBLE
ATTACH;FMTTYPE=image/jpeg:https://eveshamramblingclub.org.uk/everc/wp-content/uploads/2025/04/edited-photo.jpg
END:VEVENT
BEGIN:VEVENT
DTSTART;TZID=Europe/London:20250725T173000
DTEND;TZID=Europe/London:20250725T200000
DTSTAMP:20260423T021032
CREATED:20250613T233000Z
LAST-MODIFIED:20250607T153932Z
UID:49386-1753464600-1753473600@eveshamramblingclub.org.uk
SUMMARY:July 25  Evening Ramble
DESCRIPTION:Members may view additional information by clicking  here \n\n\n\n\n\n\nLeader: Clive\n\n\n\nArea: Dumbleton and Wormington\n\n\n\nStart Time: 5.30 pm\n\n\n\nTerrain: Mainly flat\, through fields and farmland\, one main road to cross.\n\n\n\nDistance: 5.1 miles\n\n\n\nDescription: “A stroll through the Gloucestershire countryside with views towards Broadway tower and Bredon Hill. The bar at Dumbleton Village club will be open for drinks after the walk.”\n\n\n\n\nIf you are interested in joining this ramble please contact the club using the details below or through our contact form \n\n\n\n\nTel: 01386 443234\n\n\n\nMail: info@eveshamramblingclub.org.uk
URL:https://eveshamramblingclub.org.uk/ramble/jul-pm-25-ramble-2-2/
CATEGORIES:EVENING RAMBLE
ATTACH;FMTTYPE=image/jpeg:https://eveshamramblingclub.org.uk/everc/wp-content/uploads/2023/09/Clive-b-e1718267854285.jpg
END:VEVENT
BEGIN:VEVENT
DTSTART;TZID=Europe/London:20250727T100000
DTEND;TZID=Europe/London:20250727T163000
DTSTAMP:20260423T021032
CREATED:20250613T233000Z
LAST-MODIFIED:20250528T112749Z
UID:49239-1753610400-1753633800@eveshamramblingclub.org.uk
SUMMARY:July Sunday Ramble
DESCRIPTION:Members may view additional information by clicking  here. \n\n\n\n\n\n\nLeaders: Geoff and Pat\n\n\n\nArea: Salperton \n\n\n\nStart: 10.00 am\n\n\n\nDistance: 12 miles\n\n\n\nTerrain: A walk in the countryside through several small villages with some short ups and downs.\n\n\n\nLunch:\n\n\n\nWhen:  Around 1.00 pm\n\n\n\nPlease bring a picnic lunch.\n\n\n\nDescription: \n\n\n\n\n“A pleasant walk through a peaceful area including sections of the Monarch’s\, Diamond and Gloucestershire Ways. “ \n\n\n\n\n\n\n\n \n\n\n\n \n\n\n\nIf you are interested in joining this ramble please contact the club using the details below or through our contact form \n\n\n\n\nTel: 01386 443234\n\n\n\nEmail: info@eveshamramblingclub.org.uk
URL:https://eveshamramblingclub.org.uk/ramble/july-sunday-ramble-2-2/
CATEGORIES:SUNDAY RAMBLE
ATTACH;FMTTYPE=image/jpeg:https://eveshamramblingclub.org.uk/everc/wp-content/uploads/2025/05/Pat-and-Geoff-July-25.jpg
END:VEVENT
END:VCALENDAR