BEGIN:VCALENDAR
VERSION:2.0
PRODID:-//Evesham Rambling Club - ECPv6.15.20//NONSGML v1.0//EN
CALSCALE:GREGORIAN
METHOD:PUBLISH
X-ORIGINAL-URL:https://eveshamramblingclub.org.uk
X-WR-CALDESC:Events for Evesham Rambling Club
REFRESH-INTERVAL;VALUE=DURATION:PT1H
X-Robots-Tag:noindex
X-PUBLISHED-TTL:PT1H
BEGIN:VTIMEZONE
TZID:Europe/London
BEGIN:DAYLIGHT
TZOFFSETFROM:+0000
TZOFFSETTO:+0100
TZNAME:BST
DTSTART:20250330T010000
END:DAYLIGHT
BEGIN:STANDARD
TZOFFSETFROM:+0100
TZOFFSETTO:+0000
TZNAME:GMT
DTSTART:20251026T010000
END:STANDARD
BEGIN:DAYLIGHT
TZOFFSETFROM:+0000
TZOFFSETTO:+0100
TZNAME:BST
DTSTART:20260329T010000
END:DAYLIGHT
BEGIN:STANDARD
TZOFFSETFROM:+0100
TZOFFSETTO:+0000
TZNAME:GMT
DTSTART:20261025T010000
END:STANDARD
BEGIN:DAYLIGHT
TZOFFSETFROM:+0000
TZOFFSETTO:+0100
TZNAME:BST
DTSTART:20270328T010000
END:DAYLIGHT
BEGIN:STANDARD
TZOFFSETFROM:+0100
TZOFFSETTO:+0000
TZNAME:GMT
DTSTART:20271031T010000
END:STANDARD
END:VTIMEZONE
BEGIN:VEVENT
DTSTART;TZID=Europe/London:20260103T100000
DTEND;TZID=Europe/London:20260103T130000
DTSTAMP:20260422T172237
CREATED:20251214T003000Z
LAST-MODIFIED:20251202T164806Z
UID:51273-1767434400-1767445200@eveshamramblingclub.org.uk
SUMMARY:January Saturday Short
DESCRIPTION:Members may view additional information by clicking  here \n\n\n\n\n\n\nLeaders:  Simon\, Noelin and Carl\n\n\n\nArea: Arrow Country Park\, Redditch\n\n\n\nStart Time: 10.00 am\n\n\n\nTerrain:   A mixture of well paved paths and field tracks.\n\n\n\nDistance: 6.5 miles\n\n\n\nDescription:\n\n\n\n\n“A gentle stroll around the Arrow Valley Country Park with guest leaders Noelin and Simon. Mostly on well surfaced paths\, though if the weather permits we will be going down a few bridleways with the inevitable mud.“ \n\n\n\nIf you are interested in joining this ramble please contact the club using the details below or through our contact form \n\n\n\n \n\n\n\n\nEmail: info@eveshamramblingclub.org.uk
URL:https://eveshamramblingclub.org.uk/ramble/jan-saturday-short-ramble-2026/
CATEGORIES:SATURDAY RAMBLE
ATTACH;FMTTYPE=image/jpeg:https://eveshamramblingclub.org.uk/everc/wp-content/uploads/2025/11/Redditch-Arrow-Park-3b.jpg
END:VEVENT
BEGIN:VEVENT
DTSTART;TZID=Europe/London:20260114T094500
DTEND;TZID=Europe/London:20260114T133000
DTSTAMP:20260422T172237
CREATED:20251214T003000Z
LAST-MODIFIED:20251124T132516Z
UID:51140-1768383900-1768397400@eveshamramblingclub.org.uk
SUMMARY:January Midweek Ramble
DESCRIPTION:Members may view additional information by clicking  here \n\n\n\n\n\n\nLeaders: Hazel and Paul\n\n\n\nArea: Severn Stoke\, Worcestershire\n\n\n\nStart: 9.45 am\n\n\n\nTerrain: Mostly flat river paths\, lanes and tracks\n\n\n\nDistance: 6.5 miles am\n\n\n\nDescription: \n\n\n\n\n \n\n\n\n“The route goes south near the River Severn towards Earl’s Croome\, but then turns north towards Knight’s Hill and Clifton.  We walk the Severn Way along the river to return to the  pub.  There should be plenty of ducks and geese.”         \n\n\n\nLunch:\n\n\n\n\nWhen: about 1.30 pm\n\n\n\nWhere: The Rose and Crown\, Severn Stoke\n\n\n\nDetails:  Pub lunch\n\n\n\nIf you are interested in joining this ramble please contact the club using the details below or through our contact form\n\n\n\nTel: 01386 443234\n\n\n\nEmail: info@eveshamramblingclub.org.uk
URL:https://eveshamramblingclub.org.uk/ramble/jan-midweek-ramble-2026/
CATEGORIES:MIDWEEK RAMBLE
ATTACH;FMTTYPE=image/jpeg:https://eveshamramblingclub.org.uk/everc/wp-content/uploads/2025/11/20251101_102306new-1.jpg
END:VEVENT
BEGIN:VEVENT
DTSTART;TZID=Europe/London:20260121T100000
DTEND;TZID=Europe/London:20260121T130000
DTSTAMP:20260422T172237
CREATED:20251214T003000Z
LAST-MODIFIED:20251111T111811Z
UID:50998-1768989600-1769000400@eveshamramblingclub.org.uk
SUMMARY:January Short Ramble
DESCRIPTION:Members may view additional information by clicking  here \n\n\n\n\n\n\n\n\nLeaders: Geoff and Rachel\n\n\n\nArea: Mickleton\n\n\n\nStart Time: 10.00 am\n\n\n\nTerrain: Well marked paths across mostly pastureland. One arable field. Some woodland and quiet lanes. Two stiles\n\n\n\nDistance: 5 miles\n\n\n\nDescription:\n\n\n\n\n“A gentle\, undulating walk from Mickleton taking in Thistly Hill and Dairy Hills\, before reaching Bakers Hill\, where we walk back down to Mickleton.” \n\n\n\n\nLunch:\n\n\n\nWhen: 1.00 pm\n\n\n\nWhere: The Butchers Arms\, Mickleton\n\n\n\n\n \n\n\n\n \n\n\n\n \n\n\n\n\n\n\n\nIf you are interested in joining this ramble please contact the club using the details below or through our contact form \n\n\n\n\nTel: 01386 443234\n\n\n\nEmail: info@eveshamramblingclub.org.uk
URL:https://eveshamramblingclub.org.uk/ramble/jan-short-ramble-2026/
CATEGORIES:SHORT RAMBLE
ATTACH;FMTTYPE=image/jpeg:https://eveshamramblingclub.org.uk/everc/wp-content/uploads/2025/09/micleton4-edited.jpg
END:VEVENT
BEGIN:VEVENT
DTSTART;TZID=Europe/London:20260125T093000
DTEND;TZID=Europe/London:20260125T160000
DTSTAMP:20260422T172237
CREATED:20251214T003000Z
LAST-MODIFIED:20251117T132337Z
UID:50501-1769333400-1769356800@eveshamramblingclub.org.uk
SUMMARY:January Sunday Ramble
DESCRIPTION:Members may view additional information by clicking  here. \n\n\n\n\n\n\nLeader: Hazel and Paul\n\n\n\nArea: Birdlip and Brimpsfield\, Gloucs\n\n\n\nStart: 9.30 am\n\n\n\nDistance: a.m. 6 miles; p.m. 6 miles\n\n\n\nTerrain: Open tracks\, lanes. Also some woodland\, where it is likely to be very muddy\, depending on how wet January has been. Be prepared. Only a couple of steep ups and downs.\n\n\n\nLunch: 12:30 p.m.\n\n\n\na fairly short stop so that drinks and snacks can be eaten.  There is a planned ‘late lunch’ after the ramble\n\n\n\nDescription: \n\n\n\n\n“A great walk with plenty of open spaces and views of the surrounding villages and landscapes. We visit the attractive villages of Brimpsfield and Caudle Green “ \n\n\n\n\n\n\n\n \n\n\n\n \n\n\n\nIf you are interested in joining this ramble please contact the club using the details below or through our contact form \n\n\n\n\nTel: 01386 443234\n\n\n\nEmail: info@eveshamramblingclub.org.uk
URL:https://eveshamramblingclub.org.uk/ramble/jan-sunday-ramble-2-2/
CATEGORIES:SUNDAY RAMBLE
ATTACH;FMTTYPE=image/jpeg:https://eveshamramblingclub.org.uk/everc/wp-content/uploads/2023/12/Paul-Hazel-4-b-e1703156456776.jpg
END:VEVENT
END:VCALENDAR